Package: iterativeBMA Version: 1.64.0 Command: /home/biocbuild/bbs-3.20-bioc/R/bin/R CMD build --keep-empty-dirs --no-resave-data --md5 iterativeBMA StartedAt: 2025-02-03 17:57:00 -0500 (Mon, 03 Feb 2025) EndedAt: 2025-02-03 17:57:15 -0500 (Mon, 03 Feb 2025) EllapsedTime: 15.0 seconds RetCode: 0 Status: OK PackageFile: iterativeBMA_1.64.0.tar.gz PackageFileSize: 160.1 KiB