Package: iterativeBMA Version: 1.64.0 Command: chmod a+r iterativeBMA -R && F:\biocbuild\bbs-3.20-bioc\R\bin\R.exe CMD build --keep-empty-dirs --no-resave-data iterativeBMA StartedAt: 2025-01-30 19:44:01 -0500 (Thu, 30 Jan 2025) EndedAt: 2025-01-30 19:44:28 -0500 (Thu, 30 Jan 2025) EllapsedTime: 27.5 seconds RetCode: 0 Status: OK PackageFile: iterativeBMA_1.64.0.tar.gz PackageFileSize: 159.8 KiB