Package: katdetectr Version: 1.8.0 Command: rm -rf katdetectr.buildbin-libdir && mkdir katdetectr.buildbin-libdir && /Users/biocbuild/BBS/utils/build-universal.sh katdetectr_1.8.0.tar.gz /Library/Frameworks/R.framework/Resources/bin/R katdetectr.buildbin-libdir StartedAt: 2025-02-05 16:23:25 -0500 (Wed, 05 Feb 2025) EndedAt: 2025-02-05 16:24:17 -0500 (Wed, 05 Feb 2025) EllapsedTime: 51.7 seconds RetCode: 0 Status: OK PackageFile: katdetectr_1.8.0.tgz PackageFileSize: 1.797 MiB