Package: katdetectr Version: 1.8.0 Command: /Library/Frameworks/R.framework/Resources/bin/R CMD check --install=check:katdetectr.install-out.txt --library=/Library/Frameworks/R.framework/Resources/library --no-vignettes --timings katdetectr_1.8.0.tar.gz StartedAt: 2025-02-11 23:20:50 -0500 (Tue, 11 Feb 2025) EndedAt: 2025-02-11 23:26:26 -0500 (Tue, 11 Feb 2025) EllapsedTime: 336.5 seconds RetCode: 0 Status: OK CheckDir: katdetectr.Rcheck Warnings: 0