Package: katdetectr Version: 1.8.0 Command: /Library/Frameworks/R.framework/Resources/bin/R CMD INSTALL katdetectr StartedAt: 2025-02-10 17:38:55 -0500 (Mon, 10 Feb 2025) EndedAt: 2025-02-10 17:39:43 -0500 (Mon, 10 Feb 2025) EllapsedTime: 48.5 seconds RetCode: 0 Status: OK