Package: katdetectr Version: 1.8.0 Command: /Library/Frameworks/R.framework/Resources/bin/R CMD build --keep-empty-dirs --no-resave-data katdetectr StartedAt: 2025-02-03 19:52:49 -0500 (Mon, 03 Feb 2025) EndedAt: 2025-02-03 19:55:40 -0500 (Mon, 03 Feb 2025) EllapsedTime: 171.3 seconds RetCode: 0 Status: OK PackageFile: katdetectr_1.8.0.tar.gz PackageFileSize: 1.461 MiB