Package: katdetectr Version: 1.8.0 Command: /Library/Frameworks/R.framework/Resources/bin/R CMD INSTALL katdetectr StartedAt: 2025-02-03 16:28:42 -0500 (Mon, 03 Feb 2025) EndedAt: 2025-02-03 16:30:03 -0500 (Mon, 03 Feb 2025) EllapsedTime: 81.4 seconds RetCode: 0 Status: OK