Package: katdetectr Version: 1.8.0 Command: /home/biocbuild/bbs-3.20-bioc/R/bin/R CMD check --install=check:katdetectr.install-out.txt --library=/home/biocbuild/bbs-3.20-bioc/R/site-library --timings katdetectr_1.8.0.tar.gz StartedAt: 2025-02-03 23:33:53 -0500 (Mon, 03 Feb 2025) EndedAt: 2025-02-03 23:39:29 -0500 (Mon, 03 Feb 2025) EllapsedTime: 336.4 seconds RetCode: 0 Status: OK CheckDir: katdetectr.Rcheck Warnings: 0