Package: katdetectr Version: 1.8.0 Command: chmod a+r katdetectr -R && F:\biocbuild\bbs-3.20-bioc\R\bin\R.exe CMD build --keep-empty-dirs --no-resave-data katdetectr StartedAt: 2025-02-03 19:59:38 -0500 (Mon, 03 Feb 2025) EndedAt: 2025-02-03 20:01:33 -0500 (Mon, 03 Feb 2025) EllapsedTime: 115.1 seconds RetCode: 0 Status: OK PackageFile: katdetectr_1.8.0.tar.gz PackageFileSize: 601.9 KiB