Package: katdetectr Version: 1.8.0 Command: F:\biocbuild\bbs-3.20-bioc\R\bin\R.exe CMD check --no-multiarch --install=check:katdetectr.install-out.txt --library=F:\biocbuild\bbs-3.20-bioc\R\library --no-vignettes --timings katdetectr_1.8.0.tar.gz StartedAt: 2025-02-04 03:06:32 -0500 (Tue, 04 Feb 2025) EndedAt: 2025-02-04 03:12:44 -0500 (Tue, 04 Feb 2025) EllapsedTime: 371.9 seconds RetCode: 0 Status: OK CheckDir: katdetectr.Rcheck Warnings: 0