Package: katdetectr Version: 1.8.0 Command: /home/biocbuild/R/R/bin/R CMD check --install=check:katdetectr.install-out.txt --library=/home/biocbuild/R/R/site-library --no-vignettes --timings katdetectr_1.8.0.tar.gz StartedAt: 2025-02-11 07:29:24 -0000 (Tue, 11 Feb 2025) EndedAt: 2025-02-11 07:35:34 -0000 (Tue, 11 Feb 2025) EllapsedTime: 370.4 seconds RetCode: 0 Status: OK CheckDir: katdetectr.Rcheck Warnings: 0