Package: keggorthology Version: 2.58.0 Command: rm -rf keggorthology.buildbin-libdir && mkdir keggorthology.buildbin-libdir && F:\biocbuild\bbs-3.20-bioc\R\bin\R.exe CMD INSTALL --build --library=keggorthology.buildbin-libdir keggorthology_2.58.0.tar.gz StartedAt: 2025-01-31 08:55:11 -0500 (Fri, 31 Jan 2025) EndedAt: 2025-01-31 08:55:52 -0500 (Fri, 31 Jan 2025) EllapsedTime: 41.3 seconds RetCode: 0 Status: OK PackageFile: keggorthology_2.58.0.zip PackageFileSize: 674.3 KiB