Package: kmcut Version: 1.0.0 Command: rm -rf kmcut.buildbin-libdir && mkdir kmcut.buildbin-libdir && /Users/biocbuild/BBS/utils/build-universal.sh kmcut_1.0.0.tar.gz /Library/Frameworks/R.framework/Resources/bin/R kmcut.buildbin-libdir StartedAt: 2025-02-05 16:24:20 -0500 (Wed, 05 Feb 2025) EndedAt: 2025-02-05 16:24:48 -0500 (Wed, 05 Feb 2025) EllapsedTime: 28.1 seconds RetCode: 0 Status: OK PackageFile: kmcut_1.0.0.tgz PackageFileSize: 1.279 MiB