Package: kmcut Version: 1.0.0 Command: /Library/Frameworks/R.framework/Resources/bin/R CMD build --keep-empty-dirs --no-resave-data kmcut StartedAt: 2025-02-03 19:54:29 -0500 (Mon, 03 Feb 2025) EndedAt: 2025-02-03 19:55:56 -0500 (Mon, 03 Feb 2025) EllapsedTime: 86.2 seconds RetCode: 0 Status: OK PackageFile: kmcut_1.0.0.tar.gz PackageFileSize: 1.259 MiB