Package: kmcut Version: 1.0.0 Command: /Library/Frameworks/R.framework/Resources/bin/R CMD check --install=check:kmcut.install-out.txt --library=/Library/Frameworks/R.framework/Resources/library --no-vignettes --timings kmcut_1.0.0.tar.gz StartedAt: 2025-02-04 05:32:20 -0500 (Tue, 04 Feb 2025) EndedAt: 2025-02-04 05:37:31 -0500 (Tue, 04 Feb 2025) EllapsedTime: 311.7 seconds RetCode: 0 Status: OK CheckDir: kmcut.Rcheck Warnings: 0