Package: kmcut Version: 1.0.0 Command: chmod a+r kmcut -R && F:\biocbuild\bbs-3.20-bioc\R\bin\R.exe CMD build --keep-empty-dirs --no-resave-data kmcut StartedAt: 2025-02-03 20:01:11 -0500 (Mon, 03 Feb 2025) EndedAt: 2025-02-03 20:02:01 -0500 (Mon, 03 Feb 2025) EllapsedTime: 49.4 seconds RetCode: 0 Status: OK PackageFile: kmcut_1.0.0.tar.gz PackageFileSize: 542.3 KiB