Package: kmcut Version: 1.0.0 Command: F:\biocbuild\bbs-3.20-bioc\R\bin\R.exe CMD INSTALL kmcut StartedAt: 2025-02-10 16:43:01 -0500 (Mon, 10 Feb 2025) EndedAt: 2025-02-10 16:43:30 -0500 (Mon, 10 Feb 2025) EllapsedTime: 28.6 seconds RetCode: 0 Status: OK