Package: knowYourCG Version: 1.2.5 Command: /Library/Frameworks/R.framework/Resources/bin/R CMD check --install=check:knowYourCG.install-out.txt --library=/Library/Frameworks/R.framework/Resources/library --no-vignettes --timings knowYourCG_1.2.5.tar.gz StartedAt: 2025-02-11 05:17:47 -0500 (Tue, 11 Feb 2025) EndedAt: 2025-02-11 05:46:37 -0500 (Tue, 11 Feb 2025) EllapsedTime: 1730.7 seconds RetCode: 0 Status: OK CheckDir: knowYourCG.Rcheck Warnings: 0