Package: knowYourCG Version: 1.2.5 Command: /home/biocbuild/bbs-3.20-bioc/R/bin/R CMD check --install=check:knowYourCG.install-out.txt --library=/home/biocbuild/bbs-3.20-bioc/R/site-library --timings knowYourCG_1.2.5.tar.gz StartedAt: 2025-02-10 23:27:39 -0500 (Mon, 10 Feb 2025) EndedAt: 2025-02-10 23:33:52 -0500 (Mon, 10 Feb 2025) EllapsedTime: 372.6 seconds RetCode: 0 Status: OK CheckDir: knowYourCG.Rcheck Warnings: 0