Package: knowYourCG Version: 1.2.5 Command: /home/biocbuild/bbs-3.20-bioc/R/bin/R CMD INSTALL knowYourCG StartedAt: 2025-02-10 15:28:13 -0500 (Mon, 10 Feb 2025) EndedAt: 2025-02-10 15:28:29 -0500 (Mon, 10 Feb 2025) EllapsedTime: 15.6 seconds RetCode: 0 Status: OK