Package: knowYourCG Version: 1.2.5 Command: rm -rf knowYourCG.buildbin-libdir && mkdir knowYourCG.buildbin-libdir && F:\biocbuild\bbs-3.20-bioc\R\bin\R.exe CMD INSTALL --build --library=knowYourCG.buildbin-libdir knowYourCG_1.2.5.tar.gz StartedAt: 2025-02-04 08:47:48 -0500 (Tue, 04 Feb 2025) EndedAt: 2025-02-04 08:48:53 -0500 (Tue, 04 Feb 2025) EllapsedTime: 64.9 seconds RetCode: 0 Status: OK PackageFile: knowYourCG_1.2.5.zip PackageFileSize: 11.06 MiB