Package: knowYourCG Version: 1.2.5 Command: chmod a+r knowYourCG -R && F:\biocbuild\bbs-3.20-bioc\R\bin\R.exe CMD build --keep-empty-dirs --no-resave-data knowYourCG StartedAt: 2025-02-03 20:01:18 -0500 (Mon, 03 Feb 2025) EndedAt: 2025-02-03 20:04:43 -0500 (Mon, 03 Feb 2025) EllapsedTime: 205.3 seconds RetCode: 0 Status: OK PackageFile: knowYourCG_1.2.5.tar.gz PackageFileSize: 12.35 MiB