Package: knowYourCG Version: 1.2.5 Command: F:\biocbuild\bbs-3.20-bioc\R\bin\R.exe CMD INSTALL knowYourCG StartedAt: 2025-02-03 16:02:31 -0500 (Mon, 03 Feb 2025) EndedAt: 2025-02-03 16:03:11 -0500 (Mon, 03 Feb 2025) EllapsedTime: 40.0 seconds RetCode: 0 Status: OK