Package: knowYourCG Version: 1.2.5 Command: /home/biocbuild/R/R/bin/R CMD build --keep-empty-dirs --no-resave-data knowYourCG StartedAt: 2025-02-04 00:32:43 -0000 (Tue, 04 Feb 2025) EndedAt: 2025-02-04 00:35:30 -0000 (Tue, 04 Feb 2025) EllapsedTime: 167.1 seconds RetCode: 0 Status: OK PackageFile: knowYourCG_1.2.5.tar.gz PackageFileSize: 12.83 MiB