Package: knowYourCG Version: 1.2.5 Command: /home/biocbuild/R/R/bin/R CMD check --install=check:knowYourCG.install-out.txt --library=/home/biocbuild/R/R/site-library --no-vignettes --timings knowYourCG_1.2.5.tar.gz StartedAt: 2025-02-04 08:17:30 -0000 (Tue, 04 Feb 2025) EndedAt: 2025-02-04 08:22:35 -0000 (Tue, 04 Feb 2025) EllapsedTime: 305.6 seconds RetCode: 0 Status: OK CheckDir: knowYourCG.Rcheck Warnings: 0