Package: knowYourCG Version: 1.2.5 Command: /home/biocbuild/R/R/bin/R CMD INSTALL knowYourCG StartedAt: 2025-02-10 20:27:53 -0000 (Mon, 10 Feb 2025) EndedAt: 2025-02-10 20:28:16 -0000 (Mon, 10 Feb 2025) EllapsedTime: 22.9 seconds RetCode: 0 Status: OK