Package: koinar Version: 1.0.2 Command: rm -rf koinar.buildbin-libdir && mkdir koinar.buildbin-libdir && /Users/biocbuild/BBS/utils/build-universal.sh koinar_1.0.2.tar.gz /Library/Frameworks/R.framework/Resources/bin/R koinar.buildbin-libdir StartedAt: 2025-02-04 13:16:04 -0500 (Tue, 04 Feb 2025) EndedAt: 2025-02-04 13:16:15 -0500 (Tue, 04 Feb 2025) EllapsedTime: 10.6 seconds RetCode: 0 Status: OK PackageFile: koinar_1.0.2.tgz PackageFileSize: 1.215 MiB