Package: koinar Version: 1.0.2 Command: /Library/Frameworks/R.framework/Resources/bin/R CMD INSTALL koinar StartedAt: 2025-02-03 15:19:26 -0500 (Mon, 03 Feb 2025) EndedAt: 2025-02-03 15:19:49 -0500 (Mon, 03 Feb 2025) EllapsedTime: 23.1 seconds RetCode: 0 Status: OK