Package: koinar Version: 1.0.2 Command: F:\biocbuild\bbs-3.20-bioc\R\bin\R.exe CMD check --no-multiarch --install=check:koinar.install-out.txt --library=F:\biocbuild\bbs-3.20-bioc\R\library --no-vignettes --timings koinar_1.0.2.tar.gz StartedAt: 2025-02-11 03:03:22 -0500 (Tue, 11 Feb 2025) EndedAt: 2025-02-11 03:04:05 -0500 (Tue, 11 Feb 2025) EllapsedTime: 42.6 seconds RetCode: 0 Status: OK CheckDir: koinar.Rcheck Warnings: 0