Package: koinar Version: 1.0.2 Command: F:\biocbuild\bbs-3.20-bioc\R\bin\R.exe CMD INSTALL koinar StartedAt: 2025-02-03 15:42:12 -0500 (Mon, 03 Feb 2025) EndedAt: 2025-02-03 15:42:20 -0500 (Mon, 03 Feb 2025) EllapsedTime: 8.6 seconds RetCode: 0 Status: OK