Package: koinar Version: 1.0.2 Command: /home/biocbuild/R/R/bin/R CMD check --install=check:koinar.install-out.txt --library=/home/biocbuild/R/R/site-library --no-vignettes --timings koinar_1.0.2.tar.gz StartedAt: 2025-02-11 07:32:37 -0000 (Tue, 11 Feb 2025) EndedAt: 2025-02-11 07:33:04 -0000 (Tue, 11 Feb 2025) EllapsedTime: 27.0 seconds RetCode: 0 Status: OK CheckDir: koinar.Rcheck Warnings: 0