Package: koinar Version: 1.0.2 Command: /home/biocbuild/R/R/bin/R CMD INSTALL koinar StartedAt: 2025-02-10 20:15:25 -0000 (Mon, 10 Feb 2025) EndedAt: 2025-02-10 20:15:49 -0000 (Mon, 10 Feb 2025) EllapsedTime: 24.1 seconds RetCode: 0 Status: OK