Package: lapmix Version: 1.72.0 Command: rm -rf lapmix.buildbin-libdir && mkdir lapmix.buildbin-libdir && /Users/biocbuild/BBS/utils/build-universal.sh lapmix_1.72.0.tar.gz /Library/Frameworks/R.framework/Resources/bin/R lapmix.buildbin-libdir StartedAt: 2025-02-05 16:24:48 -0500 (Wed, 05 Feb 2025) EndedAt: 2025-02-05 16:24:53 -0500 (Wed, 05 Feb 2025) EllapsedTime: 5.4 seconds RetCode: 0 Status: OK PackageFile: lapmix_1.72.0.tgz PackageFileSize: 377.1 KiB