Package: lapmix Version: 1.72.0 Command: /Library/Frameworks/R.framework/Resources/bin/R CMD build --keep-empty-dirs --no-resave-data lapmix StartedAt: 2025-02-03 19:54:59 -0500 (Mon, 03 Feb 2025) EndedAt: 2025-02-03 19:55:17 -0500 (Mon, 03 Feb 2025) EllapsedTime: 18.2 seconds RetCode: 0 Status: OK PackageFile: lapmix_1.72.0.tar.gz PackageFileSize: 349.6 KiB