Package: lapmix Version: 1.72.0 Command: /Library/Frameworks/R.framework/Resources/bin/R CMD check --install=check:lapmix.install-out.txt --library=/Library/Frameworks/R.framework/Resources/library --no-vignettes --timings lapmix_1.72.0.tar.gz StartedAt: 2025-02-04 05:33:44 -0500 (Tue, 04 Feb 2025) EndedAt: 2025-02-04 05:34:39 -0500 (Tue, 04 Feb 2025) EllapsedTime: 55.2 seconds RetCode: 0 Status: OK CheckDir: lapmix.Rcheck Warnings: 0