Package: lapmix Version: 1.72.0 Command: /Library/Frameworks/R.framework/Resources/bin/R CMD INSTALL lapmix StartedAt: 2025-02-03 15:17:00 -0500 (Mon, 03 Feb 2025) EndedAt: 2025-02-03 15:17:18 -0500 (Mon, 03 Feb 2025) EllapsedTime: 17.8 seconds RetCode: 0 Status: OK