Package: lapmix Version: 1.72.0 Command: /home/biocbuild/bbs-3.20-bioc/R/bin/R CMD check --install=check:lapmix.install-out.txt --library=/home/biocbuild/bbs-3.20-bioc/R/site-library --timings lapmix_1.72.0.tar.gz StartedAt: 2025-02-03 23:37:04 -0500 (Mon, 03 Feb 2025) EndedAt: 2025-02-03 23:37:28 -0500 (Mon, 03 Feb 2025) EllapsedTime: 24.1 seconds RetCode: 0 Status: OK CheckDir: lapmix.Rcheck Warnings: 0