Package: lapmix Version: 1.72.0 Command: rm -rf lapmix.buildbin-libdir && mkdir lapmix.buildbin-libdir && F:\biocbuild\bbs-3.20-bioc\R\bin\R.exe CMD INSTALL --build --library=lapmix.buildbin-libdir lapmix_1.72.0.tar.gz StartedAt: 2025-02-11 08:44:52 -0500 (Tue, 11 Feb 2025) EndedAt: 2025-02-11 08:45:07 -0500 (Tue, 11 Feb 2025) EllapsedTime: 14.3 seconds RetCode: 0 Status: OK PackageFile: lapmix_1.72.0.zip PackageFileSize: 276.4 KiB