Package: lapmix Version: 1.72.0 Command: chmod a+r lapmix -R && F:\biocbuild\bbs-3.20-bioc\R\bin\R.exe CMD build --keep-empty-dirs --no-resave-data lapmix StartedAt: 2025-02-03 20:01:32 -0500 (Mon, 03 Feb 2025) EndedAt: 2025-02-03 20:01:47 -0500 (Mon, 03 Feb 2025) EllapsedTime: 14.7 seconds RetCode: 0 Status: OK PackageFile: lapmix_1.72.0.tar.gz PackageFileSize: 246.4 KiB