Package: lapmix Version: 1.72.0 Command: /home/biocbuild/R/R/bin/R CMD check --install=check:lapmix.install-out.txt --library=/home/biocbuild/R/R/site-library --no-vignettes --timings lapmix_1.72.0.tar.gz StartedAt: 2025-02-04 08:18:08 -0000 (Tue, 04 Feb 2025) EndedAt: 2025-02-04 08:18:33 -0000 (Tue, 04 Feb 2025) EllapsedTime: 25.1 seconds RetCode: 0 Status: OK CheckDir: lapmix.Rcheck Warnings: 0