Package: ldblock Version: 1.36.0 Command: rm -rf ldblock.buildbin-libdir && mkdir ldblock.buildbin-libdir && /Users/biocbuild/BBS/utils/build-universal.sh ldblock_1.36.0.tar.gz /Library/Frameworks/R.framework/Resources/bin/R ldblock.buildbin-libdir StartedAt: 2025-02-05 16:24:57 -0500 (Wed, 05 Feb 2025) EndedAt: 2025-02-05 16:25:11 -0500 (Wed, 05 Feb 2025) EllapsedTime: 14.4 seconds RetCode: 0 Status: OK PackageFile: ldblock_1.36.0.tgz PackageFileSize: 40.29 MiB