Package: ldblock Version: 1.36.0 Command: /Library/Frameworks/R.framework/Resources/bin/R CMD build --keep-empty-dirs --no-resave-data ldblock StartedAt: 2024-11-19 17:23:51 -0500 (Tue, 19 Nov 2024) EndedAt: 2024-11-19 17:24:58 -0500 (Tue, 19 Nov 2024) EllapsedTime: 67.1 seconds RetCode: 0 Status: OK PackageFile: ldblock_1.36.0.tar.gz PackageFileSize: 40.13 MiB