Package: ldblock Version: 1.36.0 Command: F:\biocbuild\bbs-3.20-bioc\R\bin\R.exe CMD check --no-multiarch --install=check:ldblock.install-out.txt --library=F:\biocbuild\bbs-3.20-bioc\R\library --no-vignettes --timings ldblock_1.36.0.tar.gz StartedAt: 2025-01-31 03:21:23 -0500 (Fri, 31 Jan 2025) EndedAt: 2025-01-31 03:23:10 -0500 (Fri, 31 Jan 2025) EllapsedTime: 107.7 seconds RetCode: 0 Status: OK CheckDir: ldblock.Rcheck Warnings: 0