Package: lefser Version: 1.16.0 Command: /Library/Frameworks/R.framework/Resources/bin/R CMD build --keep-empty-dirs --no-resave-data lefser StartedAt: 2025-02-04 02:15:05 -0500 (Tue, 04 Feb 2025) EndedAt: 2025-02-04 02:16:05 -0500 (Tue, 04 Feb 2025) EllapsedTime: 60.5 seconds RetCode: 0 Status: OK PackageFile: lefser_1.16.0.tar.gz PackageFileSize: 613.2 KiB