Package: lefser Version: 1.16.0 Command: /Library/Frameworks/R.framework/Resources/bin/R CMD INSTALL lefser StartedAt: 2025-02-03 17:20:06 -0500 (Mon, 03 Feb 2025) EndedAt: 2025-02-03 17:20:35 -0500 (Mon, 03 Feb 2025) EllapsedTime: 28.5 seconds RetCode: 0 Status: OK