Package: lefser Version: 1.16.0 Command: /home/biocbuild/bbs-3.20-bioc/R/bin/R CMD INSTALL lefser StartedAt: 2025-02-03 15:53:53 -0500 (Mon, 03 Feb 2025) EndedAt: 2025-02-03 15:54:20 -0500 (Mon, 03 Feb 2025) EllapsedTime: 26.7 seconds RetCode: 0 Status: OK