Package: lefser Version: 1.16.0 Command: F:\biocbuild\bbs-3.20-bioc\R\bin\R.exe CMD check --no-multiarch --install=check:lefser.install-out.txt --library=F:\biocbuild\bbs-3.20-bioc\R\library --no-vignettes --timings lefser_1.16.0.tar.gz StartedAt: 2025-02-04 03:10:37 -0500 (Tue, 04 Feb 2025) EndedAt: 2025-02-04 03:15:42 -0500 (Tue, 04 Feb 2025) EllapsedTime: 304.7 seconds RetCode: 0 Status: WARNINGS CheckDir: lefser.Rcheck Warnings: 1