Package: levi Version: 1.24.0 Command: /Library/Frameworks/R.framework/Resources/bin/R CMD build --keep-empty-dirs --no-resave-data levi StartedAt: 2025-02-04 02:16:05 -0500 (Tue, 04 Feb 2025) EndedAt: 2025-02-04 02:19:13 -0500 (Tue, 04 Feb 2025) EllapsedTime: 187.4 seconds RetCode: 0 Status: OK PackageFile: levi_1.24.0.tar.gz PackageFileSize: 2.782 MiB