Package: levi Version: 1.24.0 Command: /Library/Frameworks/R.framework/Resources/bin/R CMD INSTALL levi StartedAt: 2025-02-03 16:59:47 -0500 (Mon, 03 Feb 2025) EndedAt: 2025-02-03 17:00:04 -0500 (Mon, 03 Feb 2025) EllapsedTime: 16.9 seconds RetCode: 0 Status: OK