Package: levi Version: 1.24.0 Command: /Library/Frameworks/R.framework/Resources/bin/R CMD check --install=check:levi.install-out.txt --library=/Library/Frameworks/R.framework/Resources/library --no-vignettes --timings levi_1.24.0.tar.gz StartedAt: 2025-01-31 05:44:46 -0500 (Fri, 31 Jan 2025) EndedAt: 2025-01-31 05:47:38 -0500 (Fri, 31 Jan 2025) EllapsedTime: 172.3 seconds RetCode: 0 Status: OK CheckDir: levi.Rcheck Warnings: 0